BEGIN:VCALENDAR
VERSION:2.0
PRODID:-//Tukios.com/
BEGIN:VEVENT
UID:be2a2c30-576f-4d10-b3e6-a40a8585a5ea@www.bondmemorial.com
DTSTAMP:20260422T203817Z
DTSTART:20260430T170000Z
DTEND:20260430T180000Z
SUMMARY:Funeral Service
DESCRIPTION:
URL:https://www.bondmemorial.com/obituaries/jason-mckenzie
LOCATION:Bond Memorial Chapel 1098 Weston Dr  Mt. Juliet TN 37122
GEO:36.1867148;-86.5116951
END:VEVENT
END:VCALENDAR