BEGIN:VCALENDAR
VERSION:2.0
PRODID:-//Tukios.com/
BEGIN:VEVENT
UID:7c936476-34b6-494e-a11c-0a03b243a6bd@www.bondmemorial.com
DTSTAMP:20260422T203817Z
DTSTART:20260430T150000Z
DTEND:20260430T170000Z
SUMMARY:Visitation
DESCRIPTION:
URL:https://www.bondmemorial.com/obituaries/jason-mckenzie
LOCATION:Bond Memorial Chapel 1098 Weston Dr  Mt. Juliet TN 37122
GEO:36.1867148;-86.5116951
END:VEVENT
END:VCALENDAR